BEGIN:VCALENDAR
VERSION:2.0
PRODID:-//Brain Injury Services - Muskoka Simcoe - ECPv6.15.20//NONSGML v1.0//EN
CALSCALE:GREGORIAN
METHOD:PUBLISH
X-WR-CALNAME:Brain Injury Services - Muskoka Simcoe
X-ORIGINAL-URL:https://braininjuryservices.ca
X-WR-CALDESC:Events for Brain Injury Services - Muskoka Simcoe
REFRESH-INTERVAL;VALUE=DURATION:PT1H
X-Robots-Tag:noindex
X-PUBLISHED-TTL:PT1H
BEGIN:VTIMEZONE
TZID:America/Toronto
BEGIN:DAYLIGHT
TZOFFSETFROM:-0500
TZOFFSETTO:-0400
TZNAME:EDT
DTSTART:20250309T070000
END:DAYLIGHT
BEGIN:STANDARD
TZOFFSETFROM:-0400
TZOFFSETTO:-0500
TZNAME:EST
DTSTART:20251102T060000
END:STANDARD
BEGIN:DAYLIGHT
TZOFFSETFROM:-0500
TZOFFSETTO:-0400
TZNAME:EDT
DTSTART:20260308T070000
END:DAYLIGHT
BEGIN:STANDARD
TZOFFSETFROM:-0400
TZOFFSETTO:-0500
TZNAME:EST
DTSTART:20261101T060000
END:STANDARD
BEGIN:DAYLIGHT
TZOFFSETFROM:-0500
TZOFFSETTO:-0400
TZNAME:EDT
DTSTART:20270314T070000
END:DAYLIGHT
BEGIN:STANDARD
TZOFFSETFROM:-0400
TZOFFSETTO:-0500
TZNAME:EST
DTSTART:20271107T060000
END:STANDARD
END:VTIMEZONE
BEGIN:VEVENT
DTSTART;TZID=America/Toronto:20260912T093000
DTEND;TZID=America/Toronto:20260912T103000
DTSTAMP:20260421T071257
CREATED:20260219T205655Z
LAST-MODIFIED:20260219T205655Z
UID:10091-1789205400-1789209000@braininjuryservices.ca
SUMMARY:Mindfulness Ambassador Program
DESCRIPTION:Join us for 12 engaging sessions of an interactive and experiential program that explains what mindfulness looks like and why it matters. You’ll learn how to develop a daily mindfulness practice\, understand the benefits\, build effective communication skills\, and increase coping and stress management strategies.
URL:https://braininjuryservices.ca/event/mindfulness-ambassador-program/
ATTACH;FMTTYPE=image/png:https://braininjuryservices.ca/wp-content/uploads/2026/02/MAP-Poster.png
END:VEVENT
END:VCALENDAR